BEGIN:VCALENDAR
PRODID:-//AT Content Types//AT Event//EN
VERSION:1.0
BEGIN:VEVENT
DTSTART:20150910T183000Z
DTEND:20150910T213000Z
DCREATED:20150818T064526Z
UID:ATEvent-33039d87869c4f778083a96c1abdea47
SEQUENCE:0
LAST-MODIFIED:20150825T104321Z
SUMMARY:Laboratori di Dulcinea
DESCRIPTION:Festa dolciaria
LOCATION:Castello di Legnano
PRIORITY:3
TRANSP:0
END:VEVENT
END:VCALENDAR
